BEGIN:VCALENDAR
VERSION:2.0
PRODID:-//Keri Systems - ECPv6.15.20//NONSGML v1.0//EN
CALSCALE:GREGORIAN
METHOD:PUBLISH
X-WR-CALNAME:Keri Systems
X-ORIGINAL-URL:https://kerisys.com
X-WR-CALDESC:Events for Keri Systems
REFRESH-INTERVAL;VALUE=DURATION:PT1H
X-Robots-Tag:noindex
X-PUBLISHED-TTL:PT1H
BEGIN:VTIMEZONE
TZID:UTC
BEGIN:STANDARD
TZOFFSETFROM:+0000
TZOFFSETTO:+0000
TZNAME:UTC
DTSTART:20250101T000000
END:STANDARD
END:VTIMEZONE
BEGIN:VEVENT
DTSTART;TZID=UTC:20260325T080000
DTEND;TZID=UTC:20260327T170000
DTSTAMP:20260420T103803
CREATED:20250522T133510Z
LAST-MODIFIED:20250522T133605Z
UID:31366-1774425600-1774630800@kerisys.com
SUMMARY:ISC West 2026 - Las Vegas
DESCRIPTION:Taking place March 23-27 at The Venetian Expo in Las Vegas\, ISC West is the leading security trade event in the U.S. and the essential destination for innovation shaping the security industry. Network with tens of thousands of security professionals\, experience SIA Education@ISC featuring vital information on industry trends\, and explore technologies in Access Control\, Cybersecurity\, IoT\, Video Surveillance\, and more.
URL:https://kerisys.com/event/isc-west-2026/
LOCATION:Venetian Expo 201 Sands Ave Las Vegas\, NV 89169
ATTACH;FMTTYPE=image/gif:https://kerisys.com/wp-content/uploads/2023/03/ISC-2019_Logo_Gold-West.gif
END:VEVENT
END:VCALENDAR